View In:
ArcGIS JavaScript
ArcGIS Online Map Viewer
ArcGIS Earth
Service Description: NGI_Topo50_201511
Name: Imagery/NGI_Topo50_201511
Description: NGI_Topo50_201511
Single Fused Map Cache: false
Extent:
XMin: 16.250000000000004
YMin: -34.84999738553868
XMax: 33.000003505132995
YMax: -22.000000000000007
Spatial Reference: 4326
(4326)
Initial Extent:
XMin: 16.250000000000004
YMin: -34.84999738553868
XMax: 33.000003505132995
YMax: -22.000000000000007
Spatial Reference: 4326
(4326)
Full Extent:
XMin: 16.250000000000004
YMin: -34.84999738553868
XMax: 33.000003505132995
YMax: -22.000000000000007
Spatial Reference: 4326
(4326)
Pixel Size X: 1.9103911003317796E-5
Pixel Size Y: 1.9103911003317796E-5
Band Count: 4
Pixel Type: U8
RasterFunction Infos: {"rasterFunctionInfos": [{
"name": "None",
"description": "",
"help": ""
}]}
Mensuration Capabilities: Basic
Inspection Capabilities:
Has Histograms: true
Has Colormap: false
Has Multi Dimensions : false
Rendering Rule:
Min Scale: 0
Max Scale: 0
Copyright Text:
Service Data Type: esriImageServiceDataTypeGeneric
Min Values: 0, 0, 0, 0
Max Values: 255, 255, 255, 255
Mean Values: 132.49365905414118, 133.07332787688281, 132.27311082644653, 142.12083268509366
Standard Deviation Values: 120.08951842675708, 120.76194073135323, 119.88261280510439, 126.65764403022116
Object ID Field:
Fields:
None
Default Mosaic Method: Center
Allowed Mosaic Methods:
SortField:
SortValue: null
Mosaic Operator: First
Default Compression Quality: 75
Default Resampling Method: Bilinear
Max Record Count: null
Max Image Height: 4100
Max Image Width: 15000
Max Download Image Count: null
Max Mosaic Image Count: null
Allow Raster Function: true
Allow Copy: true
Allow Analysis: true
Allow Compute TiePoints: false
Supports Statistics: false
Supports Advanced Queries: false
Use StandardizedQueries: true
Raster Type Infos:
Name: Raster Dataset
Description: Supports all ArcGIS Raster Datasets
Help:
Has Raster Attribute Table: false
Edit Fields Info: null
Ownership Based AccessControl For Rasters: null
Child Resources:
Info
Histograms
Statistics
Key Properties
Legend
Raster Function Infos
Supported Operations:
Export Image
Identify
Measure
Compute Histograms
Compute Statistics Histograms
Get Samples
Compute Class Statistics
Query Boundary
Compute Pixel Location
Compute Angles
Validate
Project